BEGIN:VCALENDAR
VERSION:2.0
PRODID:-//Squarespace Inc/Squarespace 6//v6//EN
BEGIN:VEVENT
UID:57b3bc57c534a5fd32f02345@squarespace.com
DTSTAMP:20160817T013051Z
DTSTART:20160914T140000Z
DTEND:20160914T183000Z
SUMMARY:Innovation Lab 01 - Ideas into action
END:VEVENT
END:VCALENDAR
